BEGIN:VCALENDAR
VERSION:2.0
PRODID:-//Minot Association of Builders - ECPv6.15.13.1//NONSGML v1.0//EN
CALSCALE:GREGORIAN
METHOD:PUBLISH
X-ORIGINAL-URL:https://minotab.com
X-WR-CALDESC:Events for Minot Association of Builders
REFRESH-INTERVAL;VALUE=DURATION:PT1H
X-Robots-Tag:noindex
X-PUBLISHED-TTL:PT1H
BEGIN:VTIMEZONE
TZID:America/Chicago
BEGIN:DAYLIGHT
TZOFFSETFROM:-0600
TZOFFSETTO:-0500
TZNAME:CDT
DTSTART:20160313T080000
END:DAYLIGHT
BEGIN:STANDARD
TZOFFSETFROM:-0500
TZOFFSETTO:-0600
TZNAME:CST
DTSTART:20161106T070000
END:STANDARD
BEGIN:DAYLIGHT
TZOFFSETFROM:-0600
TZOFFSETTO:-0500
TZNAME:CDT
DTSTART:20170312T080000
END:DAYLIGHT
BEGIN:STANDARD
TZOFFSETFROM:-0500
TZOFFSETTO:-0600
TZNAME:CST
DTSTART:20171105T070000
END:STANDARD
BEGIN:DAYLIGHT
TZOFFSETFROM:-0600
TZOFFSETTO:-0500
TZNAME:CDT
DTSTART:20180311T080000
END:DAYLIGHT
BEGIN:STANDARD
TZOFFSETFROM:-0500
TZOFFSETTO:-0600
TZNAME:CST
DTSTART:20181104T070000
END:STANDARD
END:VTIMEZONE
BEGIN:VEVENT
DTSTART;TZID=America/Chicago:20170921T090000
DTEND;TZID=America/Chicago:20170921T110000
DTSTAMP:20260421T194146
CREATED:20170907T031005Z
LAST-MODIFIED:20170907T032128Z
UID:4538-1505984400-1505991600@minotab.com
SUMMARY:Breakfast with the Builders
DESCRIPTION:Register for Breakfast with the Builders below! \n \nRegistration for this event has ended.
URL:https://minotab.com/event/breakfast/
LOCATION:Minot Association of Builders Office\, 606 Burdick Expressway Suite B\, Minot\, ND\, 58701\, United States
END:VEVENT
END:VCALENDAR